Workbook

Sheet 详表
A1: 序号 | B1: 学院 | C1: 课题名称 | D1: 项目编号 | E1: 申请人 | F1: 学号 | G1: 项目参与者 | H1: 指导教师 | I1: 项目类别
A2: 1 | B2: 机械工程学院 | C2: 面向EHA适用于微小型高速柱塞泵的高非对称度配流结构设计 | D2: CXJJ2024006 | E2: 吕永平 | F2: 232010066 | G2: =VLOOKUP(F2,[1]汇总!$F$2:$G$219,2,0) -> 关彦哲、毛元龙、蒋南潮 | H2: 纪华伟 | I2: 理工类
A3: 2 | B3: 机械工程学院 | C3: EHA微小型高速非对称配流轴向柱塞泵故障诊断方法研究 | D3: CXJJ2024024 | E3: 关彦哲 | F3: 231010004 | G3: =VLOOKUP(F3,[1]汇总!$F$2:$G$219,2,0) -> 吕永平、蒋南潮、毛元龙 | H3: 纪华伟 | I3: 理工类
A4: 3 | B4: 电子信息学院 | C4: 二阶忆阻器设计及应用 | D4: CXJJ2024038 | E4: 蔡奇淡 | F4: 232040122 | G4: =VLOOKUP(F4,[1]汇总!$F$2:$G$219,2,0) -> 杜璐明、顾晨洋 | H4: 梁燕 | I4: 理工类
A5: 4 | B5: 电子信息学院 | C5: 基于平面谐振器的高性能微波传感器研究 | D5: CXJJ2024046 | E5: 苏超 | F5: 231040076 | G5: =VLOOKUP(F5,[1]汇总!$F$2:$G$219,2,0) -> 王翔宇、周彤、蒋树仁 | H5: 刘国华 | I5: 理工类
A6: 5 | B6: 电子信息学院 | C6: 基于OTFS的高速移动通信关键技术研究 | D6: CXJJ2024062 | E6: 王刚 | F6: 231040068 | G6: =VLOOKUP(F6,[1]汇总!$F$2:$G$219,2,0) -> 何军、吴佳炅 | H6: 周志刚 | I6: 理工类
A7: 6 | B7: 电子信息学院 | C7: 基于光声光谱技术的无创血糖检测 | D7: CXJJ2024065 | E7: 付录 | F7: 232040268 | G7: =VLOOKUP(F7,[1]汇总!$F$2:$G$219,2,0) -> 付录、于莹、邓家韬 | H7: 侯昌伦 | I7: 理工类
A8: 7 | B8: 电子信息学院 | C8: 应用于卫星通信终端的宽波束圆极化天线的研究 | D8: CXJJ2024068 | E8: 孙涵 | F8: 231040029 | G8: =VLOOKUP(F8,[1]汇总!$F$2:$G$219,2,0) -> 唐绪洋、张证梁 | H8: 饶鑫、余厉阳 | I8: 理工类
A9: 8 | B9: 电子信息学院 | C9: 基于HMSIW的固体材料介电常数平面微波传感器 | D9: CXJJ2024069 | E9: 王翔宇 | F9: 231040085 | G9: =VLOOKUP(F9,[1]汇总!$F$2:$G$219,2,0) -> 王翔宇、苏超、周彤 | H9: 王永慧 | I9: 理工类
A10: 9 | B10: 通信工程学院 | C10: 光子去斜接收的二维参数实时测量 | D10: CXJJ2024080 | E10: 姚源源 | F10: 232080094 | G10: =VLOOKUP(F10,[1]汇总!$F$2:$G$219,2,0) -> 杨兴华、王润宇 | H10: 杨淑娜、池灏 | I10: 理工类
A11: 10 | B11: 通信工程学院 | C11: 基于无人机位置的移动边缘计算任务卸载和资源分配算法研究 | D11: CXJJ2024081 | E11: 胡志浩 | F11: 232080142 | G11: =VLOOKUP(F11,[1]汇总!$F$2:$G$219,2,0) -> 洪伊甸、邬相茹、段忠华 | H11: 冯维 | I11: 理工类
A12: 11 | B12: 通信工程学院 | C12: 一种基于SGMVMD与多层次特征融合的联合婴儿痉挛症发作检测框架 | D12: CXJJ2024082 | E12: 张书畅 | F12: 231080017 | G12: =VLOOKUP(F12,[1]汇总!$F$2:$G$219,2,0) -> 毛艺晓、魏珺 | H12: 吴端坡 | I12: 理工类
A13: 12 | B13: 通信工程学院 | C13: 基于自监督学习的语音反欺骗系统研究与开发 | D13: CXJJ2024083 | E13: 梁承涵 | F13: 232080126 | G13: =VLOOKUP(F13,[1]汇总!$F$2:$G$219,2,0) -> 闫铎文、谈林涛、杨曼、刘培林、李天羽、金耀仑 | H13: 简志华 | I13: 理工类
... A34: 33 | B34: 经济学院 | C34: 农村电商对农民收入的影响研究 | D34: CXJJ2024164 | E34: 黄梦情 | F34: 232150061 | G34: =VLOOKUP(F34,[1]汇总!$F$2:$G$219,2,0) -> 张恬、施枭怡、何晨昊 | H34: 刘干 | I34: 人文社科类
A35: 34 | B35: 经济学院 | C35: 数字经济赋能中国式农业农村现代化发展的异质性非线性效应研究 | D35: CXJJ2024165 | E35: 伍笑笑 | F35: 232150051 | G35: 罗宇辰、叶浩琪 | H35: 付荣 | I35: 人文社科类
A36: 35 | B36: 经济学院 | C36: 区间面板数据的贝叶斯建模分析 | D36: CXJJ2024166 | E36: 沈琳琳 | F36: 232150054 | G36: =VLOOKUP(F36,[1]汇总!$F$2:$G$219,2,0) -> 汤朱远洋、柯诗琪 | H36: 徐登可 | I36: 人文社科类
A37: 36 | B37: 管理学院 | C37: B2B智慧生鲜供应链协调策略研究——基于信任视角 | D37: CXJJ2024168 | E37: 毛佳豪 | F37: 231030016 | G37: =VLOOKUP(F37,[1]汇总!$F$2:$G$219,2,0) -> 康文涛、牛淑萱、郑沙 | H37: 傅啸 | I37: 人文社科类
A38: 37 | B38: 管理学院 | C38: 基于演化博弈的 WEEE“互联网+”回收研究 | D38: CXJJ2024169 | E38: 杨琳 | F38: 232030119 | G38: =VLOOKUP(F38,[1]汇总!$F$2:$G$219,2,0) -> 应忠缙、阳鑫 | H38: 魏洁 | I38: 人文社科类
A39: 38 | B39: 管理学院 | C39: 中国省域灰水足迹空间关联网络结构特征及演化机制 | D39: CXJJ2024173 | E39: 刘鸿杰 | F39: 231030041 | G39: =VLOOKUP(F39,[1]汇总!$F$2:$G$219,2,0) -> 曹治杰、詹若欣 | H39: 张宁、李雪 | I39: 人文社科类
A40: 39 | B40: 管理学院 | C40: 基于比较视角下的创新强国知识产权与技术标准战略差异化分析 | D40: CXJJ2024174 | E40: 吴思宇 | F40: 231030064 | G40: =VLOOKUP(F40,[1]汇总!$F$2:$G$219,2,0) -> 刘文静、熊子超 | H40: 禹献云 | I40: 人文社科类
A41: 40 | B41: 管理学院 | C41: 基于触发反应的微创新演化路径及选择研究 | D41: CXJJ2024175 | E41: 叶子娟 | F41: 231030046 | G41: =VLOOKUP(F41,[1]汇总!$F$2:$G$219,2,0) -> 李佳欣、沈方云、吴思宇 | H41: 徐建新 | I41: 人文社科类
A42: 41 | B42: 管理学院 | C42: 复杂图数据的联邦后门攻击研究 | D42: CXJJ2024176 | E42: 洪益磊 | F42: 231030019 | G42: 张敬平、陶忱 | H42: 张忠良 | I42: 人文社科类
A43: 42 | B43: 会计学院 | C43: 高质量发展背景下国家审计提升财政韧性的理论逻辑与作用 | D43: CXJJ2024178 | E43: 陈璐 | F43: 231140030 | G43: =VLOOKUP(F43,[1]汇总!$F$2:$G$219,2,0) -> 叶嘉政、 胡志淼、 杨勇 | H43: 罗春华 | I43: 人文社科类
A44: 43 | B44: 会计学院 | C44: ESG表现与企业高质量发展--基于网络同群效应的研究 | D44: CXJJ2024179 | E44: 汪钊辉 | F44: 231140024 | G44: =VLOOKUP(F44,[1]汇总!$F$2:$G$219,2,0) -> 罗曼、陈乘 | H44: 郭晓寒 | I44: 人文社科类
A45: 44 | B45: 会计学院 | C45: 高质量发展视域下税收促进绿色技术创新的影响机制及政策优化研究 | D45: CXJJ2024181 | E45: 陈雯珺 | F45: 232140003 | G45: =VLOOKUP(F45,[1]汇总!$F$2:$G$219,2,0) -> 葛叶凡、陈珏、凌洋 | H45: 燕洪国 | I45: 人文社科类
A46: 45 | B46: 外国语学院 | C46: 正义论视域下《美国牧歌》中梅丽的伦理困境 | D46: CXJJ2024183 | E46: 葛情依 | F46: 231110013 | G46: =VLOOKUP(F46,[1]汇总!$F$2:$G$219,2,0) -> 宋平、陈月芳、张梦伟 | H46: 敬南菲、张新颖、王韵秋 | I46: 人文社科类
A47: 46 | B47: 外国语学院 | C47: 同伴关系对初中生英语学习评价、情绪、成绩的影响：一项潜变量中介分析研究 | D47: CXJJ2024184 | E47: 刘海娟 | F47: 231110024 | G47: =VLOOKUP(F47,[1]汇总!$F$2:$G$219,2,0) -> 朱永岩、金佳琪 | H47: 邵凯祺 | I47: 人文社科类
A48: 47 | B48: 外国语学院 | C48: 学业压力对高中生评价情绪及二语表现的影响 | D48: CXJJ2024186 | E48: 朱永岩 | F48: 231110020 | G48: =VLOOKUP(F48,[1]汇总!$F$2:$G$219,2,0) -> 朱永岩、刘海娟、金佳琪 | H48: 邵凯祺 | I48: 人文社科类
A49: 48 | B49: 法学院 | C49: AI技术在高校师生中的应用现状及存在问题 | D49: CXJJ2024187 | E49: 何嘉玲 | F49: 231340043 | G49: =VLOOKUP(F49,[1]汇总!$F$2:$G$219,2,0) -> 赵敏君、闫雪森 | H49: 李庆真 | I49: 人文社科类
A50: 49 | B50: 法学院 | C50: 深度合成技术对公众社交媒体信任的影响研究 | D50: CXJJ2024189 | E50: 林生 | F50: 231340039 | G50: =VLOOKUP(F50,[1]汇总!$F$2:$G$219,2,0) -> 郑坤、李静、胡恩悦 | H50: 吴新慧 | I50: 人文社科类
A51: 50 | B51: 马克思主义学院 | C51: 十八大以来党的程序性制度建设的经验启示研究 | D51: CXJJ2024194 | E51: 谢雯浓 | F51: 231230039 | G51: =VLOOKUP(F51,[1]汇总!$F$2:$G$219,2,0) -> 毛瑞天、金雨欣、朱映虹、严萌 | H51: 张扬金 | I51: 人文社科类
A52: 51 | B52: 马克思主义学院 | C52: 伯特尔·奥尔曼的马克思主义整体观研究 | D52: CXJJ2024195 | E52: 付金晶 | F52: 231230025 | G52: =VLOOKUP(F52,[1]汇总!$F$2:$G$219,2,0) -> 亢玉迎、钟佩芹 | H52: 田世锭 | I52: 人文社科类
A53: 52 | B53: 马克思主义学院 | C53: 马克思的思想连续性研究 | D53: CXJJ2024197 | E53: 亢玉迎 | F53: 231230028 | G53: =VLOOKUP(F53,[1]汇总!$F$2:$G$219,2,0) -> 钟佩芹、付金晶 | H53: 田世锭 | I53: 人文社科类
A54: 53 | B54: 马克思主义学院 | C54: 全面抗战时期浙江省浙江籍革命烈士群体研究 | D54: CXJJ2024198 | E54: 金雨欣 | F54: 231230007 | G54: =VLOOKUP(F54,[1]汇总!$F$2:$G$219,2,0) -> 严萌、朱映虹、李一杭 | H54: 韩健夫 | I54: 人文社科类
... A61: 60 | B61: 圣光机联合学院 | C61: 基于智能蒙皮阵列极化波束重构技术研究 | D61: CXJJ2024216 | E61: 陈智斌 | F61: 232320054 | G61: =VLOOKUP(F61,[1]汇总!$F$2:$G$219,2,0) -> 尤景超、崔熙杭、张晓峰 | H61: 陈志坤 | I61: 理工类

Sheet 统计
B5: 行标签 | C5: 计数项:申请人
A6: 1 | B6: 材料与环境工程学院 | C6: 2
A7: 2 | B7: 电子信息学院 | C7: 6
A8: 3 | B8: 法学院 | C8: 2
A9: 4 | B9: 管理学院 | C9: 6
A10: 5 | B10: 会计学院 | C10: 3
A11: 6 | B11: 机械工程学院 | C11: 2
A12: 7 | B12: 经济学院 | C12: 5
A13: 8 | B13: 理学院 | C13: 3
A14: 9 | B14: 马克思主义学院 | C14: 6
A15: 10 | B15: 圣光机联合学院 | C15: 1
A16: 11 | B16: 通信工程学院 | C16: 10
A17: 12 | B17: 外国语学院 | C17: 3
... A19: 14 | B19: 自动化学院 | C19: 7
B20: 总计 | C20: 60
